BEGIN:VCALENDAR
VERSION:2.0
PRODID:-//Creative Hub of Apopka - ECPv6.15.20//NONSGML v1.0//EN
CALSCALE:GREGORIAN
METHOD:PUBLISH
X-ORIGINAL-URL:https://creativehubofapopka.com
X-WR-CALDESC:Events for Creative Hub of Apopka
REFRESH-INTERVAL;VALUE=DURATION:PT1H
X-Robots-Tag:noindex
X-PUBLISHED-TTL:PT1H
BEGIN:VTIMEZONE
TZID:America/New_York
BEGIN:DAYLIGHT
TZOFFSETFROM:-0500
TZOFFSETTO:-0400
TZNAME:EDT
DTSTART:20250309T070000
END:DAYLIGHT
BEGIN:STANDARD
TZOFFSETFROM:-0400
TZOFFSETTO:-0500
TZNAME:EST
DTSTART:20251102T060000
END:STANDARD
BEGIN:DAYLIGHT
TZOFFSETFROM:-0500
TZOFFSETTO:-0400
TZNAME:EDT
DTSTART:20260308T070000
END:DAYLIGHT
BEGIN:STANDARD
TZOFFSETFROM:-0400
TZOFFSETTO:-0500
TZNAME:EST
DTSTART:20261101T060000
END:STANDARD
BEGIN:DAYLIGHT
TZOFFSETFROM:-0500
TZOFFSETTO:-0400
TZNAME:EDT
DTSTART:20270314T070000
END:DAYLIGHT
BEGIN:STANDARD
TZOFFSETFROM:-0400
TZOFFSETTO:-0500
TZNAME:EST
DTSTART:20271107T060000
END:STANDARD
END:VTIMEZONE
BEGIN:VEVENT
DTSTART;TZID=America/New_York:20260425T100000
DTEND;TZID=America/New_York:20260425T120000
DTSTAMP:20260421T091051
CREATED:20260415T032106Z
LAST-MODIFIED:20260415T032106Z
UID:10003797-1777111200-1777118400@creativehubofapopka.com
SUMMARY:Mother's Day Ceramic Planter Workshop
DESCRIPTION:
URL:https://creativehubofapopka.com/event/mothers-day-ceramic-planter-workshop/
LOCATION:Creative Hub of Apopka\, 124 E 2nd Street\, Apopka\, FL\, 32703\, United States
CATEGORIES:Artistic Workshop
ATTACH;FMTTYPE=image/jpeg:https://creativehubofapopka.com/wp-content/uploads/2026/04/MothersDay.jpg
END:VEVENT
BEGIN:VEVENT
DTSTART;TZID=America/New_York:20260601T090000
DTEND;TZID=America/New_York:20260601T120000
DTSTAMP:20260421T091051
CREATED:20260413T155832Z
LAST-MODIFIED:20260413T155832Z
UID:10003792-1780304400-1780315200@creativehubofapopka.com
SUMMARY:Kid's Tiny Camp Part 1 (Ages 8-11)
DESCRIPTION:
URL:https://creativehubofapopka.com/event/kids-tiny-camp-part-1-ages-8-11/
LOCATION:Creative Hub of Apopka\, 124 E 2nd Street\, Apopka\, FL\, 32703\, United States
CATEGORIES:Artistic Workshop
ATTACH;FMTTYPE=image/jpeg:https://creativehubofapopka.com/wp-content/uploads/2026/04/TinyCamp.jpg
END:VEVENT
BEGIN:VEVENT
DTSTART;TZID=America/New_York:20260601T130000
DTEND;TZID=America/New_York:20260601T160000
DTSTAMP:20260421T091051
CREATED:20260413T155411Z
LAST-MODIFIED:20260413T155411Z
UID:10003791-1780318800-1780329600@creativehubofapopka.com
SUMMARY:Teen Painting Intensive: Focus on Color (Ages 12-16)
DESCRIPTION:
URL:https://creativehubofapopka.com/event/teen-painting-intensive-focus-on-color-ages-12-16/
LOCATION:Creative Hub of Apopka\, 124 E 2nd Street\, Apopka\, FL\, 32703\, United States
CATEGORIES:Artistic Workshop
ATTACH;FMTTYPE=image/png:https://creativehubofapopka.com/wp-content/uploads/2026/04/TeenPaintingIntrusive.png
END:VEVENT
BEGIN:VEVENT
DTSTART;TZID=America/New_York:20260615T090000
DTEND;TZID=America/New_York:20260615T120000
DTSTAMP:20260421T091051
CREATED:20260413T160053Z
LAST-MODIFIED:20260413T160053Z
UID:10003793-1781514000-1781524800@creativehubofapopka.com
SUMMARY:Kid's Tiny Camp Part 2 (Ages 8-11)
DESCRIPTION:
URL:https://creativehubofapopka.com/event/kids-tiny-camp-part-2-ages-8-11/
LOCATION:Creative Hub of Apopka\, 124 E 2nd Street\, Apopka\, FL\, 32703\, United States
CATEGORIES:Artistic Workshop
ATTACH;FMTTYPE=image/jpeg:https://creativehubofapopka.com/wp-content/uploads/2026/04/TinyCampPart2.jpg
END:VEVENT
BEGIN:VEVENT
DTSTART;TZID=America/New_York:20260629T090000
DTEND;TZID=America/New_York:20260629T120000
DTSTAMP:20260421T091051
CREATED:20260413T153529Z
LAST-MODIFIED:20260413T153529Z
UID:10003789-1782723600-1782734400@creativehubofapopka.com
SUMMARY:Kid's Painting and Drawing Camp (Ages 8-11)
DESCRIPTION:
URL:https://creativehubofapopka.com/event/kids-painting-and-drawing-camp-ages-8-11/
LOCATION:Creative Hub of Apopka\, 124 E 2nd Street\, Apopka\, FL\, 32703\, United States
CATEGORIES:Artistic Workshop
ATTACH;FMTTYPE=image/jpeg:https://creativehubofapopka.com/wp-content/uploads/2026/04/KidsPaintingDrawingCamp.jpg
END:VEVENT
BEGIN:VEVENT
DTSTART;TZID=America/New_York:20260629T130000
DTEND;TZID=America/New_York:20260629T160000
DTSTAMP:20260421T091051
CREATED:20260413T153750Z
LAST-MODIFIED:20260413T153750Z
UID:10003790-1782738000-1782748800@creativehubofapopka.com
SUMMARY:Teen Mixed Media Exploration (2wk\, Ages 12-16)
DESCRIPTION:
URL:https://creativehubofapopka.com/event/teen-mixed-media-exploration-2wk-ages-12-16/
LOCATION:Creative Hub of Apopka\, 124 E 2nd Street\, Apopka\, FL\, 32703\, United States
CATEGORIES:Artistic Workshop
ATTACH;FMTTYPE=image/jpeg:https://creativehubofapopka.com/wp-content/uploads/2026/04/TeenMixedMedia.jpg
END:VEVENT
BEGIN:VEVENT
DTSTART;TZID=America/New_York:20260713T090000
DTEND;TZID=America/New_York:20260713T120000
DTSTAMP:20260421T091051
CREATED:20260413T160428Z
LAST-MODIFIED:20260413T160428Z
UID:10003794-1783933200-1783944000@creativehubofapopka.com
SUMMARY:Kid's Ceramic Camp (Ages 8-11)
DESCRIPTION:
URL:https://creativehubofapopka.com/event/kids-ceramic-camp-ages-8-11/
LOCATION:Creative Hub of Apopka\, 124 E 2nd Street\, Apopka\, FL\, 32703\, United States
CATEGORIES:Artistic Workshop
ATTACH;FMTTYPE=image/jpeg:https://creativehubofapopka.com/wp-content/uploads/2026/04/KidsCeramics.jpg
END:VEVENT
BEGIN:VEVENT
DTSTART;TZID=America/New_York:20260713T130000
DTEND;TZID=America/New_York:20260713T160000
DTSTAMP:20260421T091051
CREATED:20260413T160542Z
LAST-MODIFIED:20260416T182856Z
UID:10003795-1783947600-1783958400@creativehubofapopka.com
SUMMARY:Teen Ceramics (Ages 12-16)
DESCRIPTION:
URL:https://creativehubofapopka.com/event/teen-ceramics-ages-12-16/
LOCATION:Creative Hub of Apopka\, 124 E 2nd Street\, Apopka\, FL\, 32703\, United States
CATEGORIES:Artistic Workshop
ATTACH;FMTTYPE=image/jpeg:https://creativehubofapopka.com/wp-content/uploads/2026/04/TeenCeramics.jpg
END:VEVENT
END:VCALENDAR