BEGIN:VCALENDAR
VERSION:2.0
PRODID:-//Creative Hub of Apopka - ECPv6.15.20//NONSGML v1.0//EN
CALSCALE:GREGORIAN
METHOD:PUBLISH
X-ORIGINAL-URL:https://creativehubofapopka.com
X-WR-CALDESC:Events for Creative Hub of Apopka
REFRESH-INTERVAL;VALUE=DURATION:PT1H
X-Robots-Tag:noindex
X-PUBLISHED-TTL:PT1H
BEGIN:VTIMEZONE
TZID:America/New_York
BEGIN:DAYLIGHT
TZOFFSETFROM:-0500
TZOFFSETTO:-0400
TZNAME:EDT
DTSTART:20240310T070000
END:DAYLIGHT
BEGIN:STANDARD
TZOFFSETFROM:-0400
TZOFFSETTO:-0500
TZNAME:EST
DTSTART:20241103T060000
END:STANDARD
BEGIN:DAYLIGHT
TZOFFSETFROM:-0500
TZOFFSETTO:-0400
TZNAME:EDT
DTSTART:20250309T070000
END:DAYLIGHT
BEGIN:STANDARD
TZOFFSETFROM:-0400
TZOFFSETTO:-0500
TZNAME:EST
DTSTART:20251102T060000
END:STANDARD
BEGIN:DAYLIGHT
TZOFFSETFROM:-0500
TZOFFSETTO:-0400
TZNAME:EDT
DTSTART:20260308T070000
END:DAYLIGHT
BEGIN:STANDARD
TZOFFSETFROM:-0400
TZOFFSETTO:-0500
TZNAME:EST
DTSTART:20261101T060000
END:STANDARD
END:VTIMEZONE
BEGIN:VEVENT
DTSTART;TZID=America/New_York:20251019T140000
DTEND;TZID=America/New_York:20251019T170000
DTSTAMP:20260421T171125
CREATED:20250910T034455Z
LAST-MODIFIED:20250910T034455Z
UID:10003044-1760882400-1760893200@creativehubofapopka.com
SUMMARY:4th Annual Party in the Patch
DESCRIPTION:
URL:https://creativehubofapopka.com/event/4th-annual-party-in-the-patch/
LOCATION:Creative Hub of Apopka\, 124 E 2nd Street\, Apopka\, FL\, 32703\, United States
CATEGORIES:Event
ATTACH;FMTTYPE=image/jpeg:https://creativehubofapopka.com/wp-content/uploads/2025/09/PartyInThePatch.jpg
END:VEVENT
BEGIN:VEVENT
DTSTART;TZID=America/New_York:20251011T183000
DTEND;TZID=America/New_York:20251011T213000
DTSTAMP:20260421T171125
CREATED:20250924T023945Z
LAST-MODIFIED:20250924T023945Z
UID:10003054-1760207400-1760218200@creativehubofapopka.com
SUMMARY:Movie Night in the Patch | Monsters Inc.
DESCRIPTION:
URL:https://creativehubofapopka.com/event/movie-night-in-the-patch-monsters-inc/
LOCATION:Creative Hub of Apopka\, 124 E 2nd Street\, Apopka\, FL\, 32703\, United States
CATEGORIES:Event
ATTACH;FMTTYPE=image/jpeg:https://creativehubofapopka.com/wp-content/uploads/2025/09/MovieNightinthepatch.jpg
END:VEVENT
BEGIN:VEVENT
DTSTART;TZID=America/New_York:20251004T090000
DTEND;TZID=America/New_York:20251004T120000
DTSTAMP:20260421T171125
CREATED:20250910T033940Z
LAST-MODIFIED:20250924T114035Z
UID:10003043-1759568400-1759579200@creativehubofapopka.com
SUMMARY:3rd Annual Scarecrow Trail - Scarecrow Set-Up
DESCRIPTION:
URL:https://creativehubofapopka.com/event/3rd-annual-scarecrow-trail-scarecrow-seat-up/
LOCATION:Creative Hub of Apopka\, 124 E 2nd Street\, Apopka\, FL\, 32703\, United States
CATEGORIES:Event
ATTACH;FMTTYPE=image/jpeg:https://creativehubofapopka.com/wp-content/uploads/2025/09/3rdAnnualScarecrowTrail.jpg
END:VEVENT
BEGIN:VEVENT
DTSTART;TZID=America/New_York:20250920T080000
DTEND;TZID=America/New_York:20250920T170000
DTSTAMP:20260421T171125
CREATED:20250910T024608Z
LAST-MODIFIED:20250924T033748Z
UID:10003042-1758355200-1758387600@creativehubofapopka.com
SUMMARY:3rd Annual Scarecrow Trail - Sign Up Deadline
DESCRIPTION:
URL:https://creativehubofapopka.com/event/3rd-annual-scarecrow-trail-sign-up-deadline/
LOCATION:Creative Hub of Apopka\, 124 E 2nd Street\, Apopka\, FL\, 32703\, United States
CATEGORIES:Event
ATTACH;FMTTYPE=image/jpeg:https://creativehubofapopka.com/wp-content/uploads/2025/09/3rdAnnualScarecrowTrail.jpg
END:VEVENT
BEGIN:VEVENT
DTSTART;TZID=America/New_York:20250802T110000
DTEND;TZID=America/New_York:20250802T130000
DTSTAMP:20260421T171125
CREATED:20250709T191542Z
LAST-MODIFIED:20250709T191542Z
UID:10002839-1754132400-1754139600@creativehubofapopka.com
SUMMARY:DESIGN\, PAINT AND PACK School Supply Drive
DESCRIPTION:
URL:https://creativehubofapopka.com/event/design-paint-and-pack-school-supply-drive/
CATEGORIES:Event
ATTACH;FMTTYPE=image/jpeg:https://creativehubofapopka.com/wp-content/uploads/2025/07/SchoolSupply.jpg
END:VEVENT
END:VCALENDAR