BEGIN:VCALENDAR
VERSION:2.0
PRODID:-//Creative Hub of Apopka - ECPv6.15.20//NONSGML v1.0//EN
CALSCALE:GREGORIAN
METHOD:PUBLISH
X-WR-CALNAME:Creative Hub of Apopka
X-ORIGINAL-URL:https://creativehubofapopka.com
X-WR-CALDESC:Events for Creative Hub of Apopka
REFRESH-INTERVAL;VALUE=DURATION:PT1H
X-Robots-Tag:noindex
X-PUBLISHED-TTL:PT1H
BEGIN:VTIMEZONE
TZID:America/New_York
BEGIN:DAYLIGHT
TZOFFSETFROM:-0500
TZOFFSETTO:-0400
TZNAME:EDT
DTSTART:20230312T070000
END:DAYLIGHT
BEGIN:STANDARD
TZOFFSETFROM:-0400
TZOFFSETTO:-0500
TZNAME:EST
DTSTART:20231105T060000
END:STANDARD
BEGIN:DAYLIGHT
TZOFFSETFROM:-0500
TZOFFSETTO:-0400
TZNAME:EDT
DTSTART:20240310T070000
END:DAYLIGHT
BEGIN:STANDARD
TZOFFSETFROM:-0400
TZOFFSETTO:-0500
TZNAME:EST
DTSTART:20241103T060000
END:STANDARD
BEGIN:DAYLIGHT
TZOFFSETFROM:-0500
TZOFFSETTO:-0400
TZNAME:EDT
DTSTART:20250309T070000
END:DAYLIGHT
BEGIN:STANDARD
TZOFFSETFROM:-0400
TZOFFSETTO:-0500
TZNAME:EST
DTSTART:20251102T060000
END:STANDARD
BEGIN:DAYLIGHT
TZOFFSETFROM:-0500
TZOFFSETTO:-0400
TZNAME:EDT
DTSTART:20260308T070000
END:DAYLIGHT
BEGIN:STANDARD
TZOFFSETFROM:-0400
TZOFFSETTO:-0500
TZNAME:EST
DTSTART:20261101T060000
END:STANDARD
BEGIN:DAYLIGHT
TZOFFSETFROM:-0500
TZOFFSETTO:-0400
TZNAME:EDT
DTSTART:20270314T070000
END:DAYLIGHT
BEGIN:STANDARD
TZOFFSETFROM:-0400
TZOFFSETTO:-0500
TZNAME:EST
DTSTART:20271107T060000
END:STANDARD
END:VTIMEZONE
BEGIN:VEVENT
DTSTART;TZID=America/New_York:20260328T100000
DTEND;TZID=America/New_York:20260328T120000
DTSTAMP:20260421T105704
CREATED:20260310T132718Z
LAST-MODIFIED:20260310T132718Z
UID:10003781-1774692000-1774699200@creativehubofapopka.com
SUMMARY:Easter Cookie Class
DESCRIPTION:
URL:https://creativehubofapopka.com/event/easter-cookie-class-2/
LOCATION:Creative Hub of Apopka\, 124 E 2nd Street\, Apopka\, FL\, 32703\, United States
CATEGORIES:Artistic Workshop
ATTACH;FMTTYPE=image/jpeg:https://creativehubofapopka.com/wp-content/uploads/2026/03/EasterCookie.jpg
END:VEVENT
BEGIN:VEVENT
DTSTART;TZID=America/New_York:20250913T160000
DTEND;TZID=America/New_York:20250913T173000
DTSTAMP:20260421T105704
CREATED:20250824T143406Z
LAST-MODIFIED:20250824T143406Z
UID:10003034-1757779200-1757784600@creativehubofapopka.com
SUMMARY:Fall Bouquet Cookie Class
DESCRIPTION:
URL:https://creativehubofapopka.com/event/fall-bouquet-cookie-class/
LOCATION:Creative Hub of Apopka\, 124 E 2nd Street\, Apopka\, FL\, 32703\, United States
CATEGORIES:Artistic Workshop
ATTACH;FMTTYPE=image/png:https://creativehubofapopka.com/wp-content/uploads/2025/08/FallCookies-1-scaled.png
END:VEVENT
BEGIN:VEVENT
DTSTART;TZID=America/New_York:20250510T130000
DTEND;TZID=America/New_York:20250510T143000
DTSTAMP:20260421T105704
CREATED:20250504T152020Z
LAST-MODIFIED:20250504T152020Z
UID:10002825-1746882000-1746887400@creativehubofapopka.com
SUMMARY:Stained Glass Cookie Class
DESCRIPTION:
URL:https://creativehubofapopka.com/event/stained-glass-cookie-class/
LOCATION:Creative Hub of Apopka\, 124 E 2nd Street\, Apopka\, FL\, 32703\, United States
CATEGORIES:Artistic Workshop
ATTACH;FMTTYPE=image/jpeg:https://creativehubofapopka.com/wp-content/uploads/2025/05/StainglassCookies.jpg
END:VEVENT
BEGIN:VEVENT
DTSTART;TZID=America/New_York:20250412T150000
DTEND;TZID=America/New_York:20250412T163000
DTSTAMP:20260421T105704
CREATED:20250325T140126Z
LAST-MODIFIED:20250325T140126Z
UID:10002767-1744470000-1744475400@creativehubofapopka.com
SUMMARY:Easter Cookie Class
DESCRIPTION:
URL:https://creativehubofapopka.com/event/easter-cookie-class/
CATEGORIES:Artistic Workshop
ATTACH;FMTTYPE=image/png:https://creativehubofapopka.com/wp-content/uploads/2025/03/EasterCookieClass.png
END:VEVENT
BEGIN:VEVENT
DTSTART;TZID=America/New_York:20250315T100000
DTEND;TZID=America/New_York:20250315T233000
DTSTAMP:20260421T105704
CREATED:20250304T034931Z
LAST-MODIFIED:20250304T034931Z
UID:10002749-1742032800-1742081400@creativehubofapopka.com
SUMMARY:Disney Cookie Class
DESCRIPTION:
URL:https://creativehubofapopka.com/event/disney-cookie-class/
LOCATION:Creative Hub of Apopka\, 124 E 2nd Street\, Apopka\, FL\, 32703\, United States
CATEGORIES:Artistic Workshop
ATTACH;FMTTYPE=image/jpeg:https://creativehubofapopka.com/wp-content/uploads/2025/03/MouseCookies-scaled.jpg
END:VEVENT
BEGIN:VEVENT
DTSTART;TZID=America/New_York:20241214T130000
DTEND;TZID=America/New_York:20241214T143000
DTSTAMP:20260421T105704
CREATED:20241203T033313Z
LAST-MODIFIED:20241212T203646Z
UID:10002664-1734181200-1734186600@creativehubofapopka.com
SUMMARY:Christmas Wreath Cookie Class
DESCRIPTION:
URL:https://creativehubofapopka.com/event/christmas-wreath-cookie-class/
LOCATION:Creative Hub of Apopka\, 124 E 2nd Street\, Apopka\, FL\, 32703\, United States
CATEGORIES:Artistic Workshop
ATTACH;FMTTYPE=image/jpeg:https://creativehubofapopka.com/wp-content/uploads/2024/12/ChristmasWreathCookie.jpg
END:VEVENT
BEGIN:VEVENT
DTSTART;TZID=America/New_York:20241123T150000
DTEND;TZID=America/New_York:20241123T163000
DTSTAMP:20260421T105704
CREATED:20241029T015809Z
LAST-MODIFIED:20241029T015809Z
UID:10002646-1732374000-1732379400@creativehubofapopka.com
SUMMARY:Tom Turkey Cookie Class
DESCRIPTION:
URL:https://creativehubofapopka.com/event/tom-turkey-cookie-class/
LOCATION:Creative Hub of Apopka\, 124 E 2nd Street\, Apopka\, FL\, 32703\, United States
ATTACH;FMTTYPE=image/jpeg:https://creativehubofapopka.com/wp-content/uploads/2024/10/FunfectionNovember.jpg
END:VEVENT
BEGIN:VEVENT
DTSTART;TZID=America/New_York:20241109T150000
DTEND;TZID=America/New_York:20241109T163000
DTSTAMP:20260421T105704
CREATED:20241029T021057Z
LAST-MODIFIED:20241029T021057Z
UID:10002649-1731164400-1731169800@creativehubofapopka.com
SUMMARY:Fall Pie Cookie Class
DESCRIPTION:
URL:https://creativehubofapopka.com/event/fall-pie-cookie-class/
LOCATION:Creative Hub of Apopka\, 124 E 2nd Street\, Apopka\, FL\, 32703\, United States
ATTACH;FMTTYPE=image/jpeg:https://creativehubofapopka.com/wp-content/uploads/2024/10/CookiePieDecorating.jpg
END:VEVENT
BEGIN:VEVENT
DTSTART;TZID=America/New_York:20240817T150000
DTEND;TZID=America/New_York:20240817T170000
DTSTAMP:20260421T105704
CREATED:20240807T022112Z
LAST-MODIFIED:20240807T022112Z
UID:10002427-1723906800-1723914000@creativehubofapopka.com
SUMMARY:Ice Cream Cookie Class
DESCRIPTION:
URL:https://creativehubofapopka.com/event/ice-cream-cookie-class/
LOCATION:Creative Hub of Apopka\, 124 E 2nd Street\, Apopka\, FL\, 32703\, United States
CATEGORIES:Artistic Workshop
ATTACH;FMTTYPE=image/png:https://creativehubofapopka.com/wp-content/uploads/2024/08/IceCreamCookieClass.png
END:VEVENT
BEGIN:VEVENT
DTSTART;TZID=America/New_York:20240615T150000
DTEND;TZID=America/New_York:20240615T163000
DTSTAMP:20260421T105704
CREATED:20240611T165227Z
LAST-MODIFIED:20240611T165227Z
UID:10002339-1718463600-1718469000@creativehubofapopka.com
SUMMARY:June Cookie Class - Father's Day!
DESCRIPTION:
URL:https://creativehubofapopka.com/event/june-cookie-class-fathers-day/
LOCATION:Creative Hub of Apopka\, 124 E 2nd Street\, Apopka\, FL\, 32703\, United States
CATEGORIES:Artistic Workshop
ATTACH;FMTTYPE=image/jpeg:https://creativehubofapopka.com/wp-content/uploads/2024/06/JuneCookieClass.jpg
END:VEVENT
BEGIN:VEVENT
DTSTART;TZID=America/New_York:20240511T173000
DTEND;TZID=America/New_York:20240511T193000
DTSTAMP:20260421T105704
CREATED:20240425T175304Z
LAST-MODIFIED:20240425T191759Z
UID:10002222-1715448600-1715455800@creativehubofapopka.com
SUMMARY:Moms night out Cake Class
DESCRIPTION:
URL:https://creativehubofapopka.com/event/moms-night-out-cake-class/
LOCATION:Creative Hub of Apopka\, 124 E 2nd Street\, Apopka\, FL\, 32703\, United States
CATEGORIES:Artistic Workshop
ATTACH;FMTTYPE=image/jpeg:https://creativehubofapopka.com/wp-content/uploads/2024/04/MomCakes.jpg
END:VEVENT
BEGIN:VEVENT
DTSTART;TZID=America/New_York:20240413T100000
DTEND;TZID=America/New_York:20240413T113000
DTSTAMP:20260421T105704
CREATED:20240405T050237Z
LAST-MODIFIED:20240405T050853Z
UID:10002216-1713002400-1713007800@creativehubofapopka.com
SUMMARY:FosterFunfections April Cookie Class
DESCRIPTION:
URL:https://creativehubofapopka.com/event/fosterfunfections-april-cookie-class/
LOCATION:Creative Hub of Apopka\, 124 E 2nd Street\, Apopka\, FL\, 32703\, United States
CATEGORIES:Artistic Workshop
ATTACH;FMTTYPE=image/jpeg:https://creativehubofapopka.com/wp-content/uploads/2024/04/AprilCookieClass-1.jpg
END:VEVENT
BEGIN:VEVENT
DTSTART;TZID=America/New_York:20240330T150000
DTEND;TZID=America/New_York:20240330T163000
DTSTAMP:20260421T105704
CREATED:20240302T041605Z
LAST-MODIFIED:20240326T024734Z
UID:10000166-1711810800-1711816200@creativehubofapopka.com
SUMMARY:Easter Cake Class with Foster Funfections
DESCRIPTION:
URL:https://creativehubofapopka.com/event/easter-cake-class-with-foster-funfections/
LOCATION:Creative Hub of Apopka\, 124 E 2nd Street\, Apopka\, FL\, 32703\, United States
ATTACH;FMTTYPE=image/jpeg:https://creativehubofapopka.com/wp-content/uploads/2024/03/CakeClassForsterFunfection.jpg
END:VEVENT
BEGIN:VEVENT
DTSTART;TZID=America/New_York:20240210T100000
DTEND;TZID=America/New_York:20240210T120000
DTSTAMP:20260421T105704
CREATED:20240227T051246Z
LAST-MODIFIED:20240227T051246Z
UID:10000008-1707559200-1707566400@creativehubofapopka.com
SUMMARY:Valentine Cookie Class with Foster Funfections
DESCRIPTION:
URL:https://creativehubofapopka.com/event/valentine-cookie-class-with-foster-funfections/
LOCATION:Creative Hub of Apopka\, 124 E 2nd Street\, Apopka\, FL\, 32703\, United States
END:VEVENT
END:VCALENDAR