BEGIN:VCALENDAR
VERSION:2.0
PRODID:-//Creative Hub of Apopka - ECPv6.15.20//NONSGML v1.0//EN
CALSCALE:GREGORIAN
METHOD:PUBLISH
X-WR-CALNAME:Creative Hub of Apopka
X-ORIGINAL-URL:https://creativehubofapopka.com
X-WR-CALDESC:Events for Creative Hub of Apopka
REFRESH-INTERVAL;VALUE=DURATION:PT1H
X-Robots-Tag:noindex
X-PUBLISHED-TTL:PT1H
BEGIN:VTIMEZONE
TZID:America/New_York
BEGIN:DAYLIGHT
TZOFFSETFROM:-0500
TZOFFSETTO:-0400
TZNAME:EDT
DTSTART:20250309T070000
END:DAYLIGHT
BEGIN:STANDARD
TZOFFSETFROM:-0400
TZOFFSETTO:-0500
TZNAME:EST
DTSTART:20251102T060000
END:STANDARD
BEGIN:DAYLIGHT
TZOFFSETFROM:-0500
TZOFFSETTO:-0400
TZNAME:EDT
DTSTART:20260308T070000
END:DAYLIGHT
BEGIN:STANDARD
TZOFFSETFROM:-0400
TZOFFSETTO:-0500
TZNAME:EST
DTSTART:20261101T060000
END:STANDARD
BEGIN:DAYLIGHT
TZOFFSETFROM:-0500
TZOFFSETTO:-0400
TZNAME:EDT
DTSTART:20270314T070000
END:DAYLIGHT
BEGIN:STANDARD
TZOFFSETFROM:-0400
TZOFFSETTO:-0500
TZNAME:EST
DTSTART:20271107T060000
END:STANDARD
END:VTIMEZONE
BEGIN:VEVENT
DTSTART;TZID=America/New_York:20260508T173000
DTEND;TZID=America/New_York:20260508T200000
DTSTAMP:20260421T092604
CREATED:20260416T162626Z
LAST-MODIFIED:20260416T182617Z
UID:10003799-1778261400-1778270400@creativehubofapopka.com
SUMMARY:Mother’s Day Creative Kids Club
DESCRIPTION:
URL:https://creativehubofapopka.com/event/mothers-day-creative-kids-club/
LOCATION:Creative Hub of Apopka\, 124 E 2nd Street\, Apopka\, FL\, 32703\, United States
CATEGORIES:Artistic Workshop
ATTACH;FMTTYPE=image/jpeg:https://creativehubofapopka.com/wp-content/uploads/2026/04/CreativeKidsMothersDay.jpg
ORGANIZER;CN="Jankun Creative Workshops":MAILTO:melanie@jankuncreative.com
END:VEVENT
BEGIN:VEVENT
DTSTART;TZID=America/New_York:20260608T090000
DTEND;TZID=America/New_York:20260612T120000
DTSTAMP:20260421T092604
CREATED:20260225T205822Z
LAST-MODIFIED:20260225T205822Z
UID:10003775-1780909200-1781265600@creativehubofapopka.com
SUMMARY:Into the Jungle | Kids Art Camp | Rising 1st - 4th
DESCRIPTION:
URL:https://creativehubofapopka.com/event/into-the-jungle-kids-art-camp-rising-1st-4th/
LOCATION:Creative Hub of Apopka\, 124 E 2nd Street\, Apopka\, FL\, 32703\, United States
CATEGORIES:Artistic Workshop
ATTACH;FMTTYPE=image/jpeg:https://creativehubofapopka.com/wp-content/uploads/2026/02/ArtCampJungle.jpg
ORGANIZER;CN="Jankun Creative Workshops":MAILTO:melanie@jankuncreative.com
END:VEVENT
BEGIN:VEVENT
DTSTART;TZID=America/New_York:20260622T090000
DTEND;TZID=America/New_York:20260626T120000
DTSTAMP:20260421T092604
CREATED:20260225T210028Z
LAST-MODIFIED:20260225T210028Z
UID:10003776-1782118800-1782475200@creativehubofapopka.com
SUMMARY:Food Fest Cardboard Building Camp | 3D Art Camp | Rising 3rd\, 4th\, 5th\, and 6th
DESCRIPTION:
URL:https://creativehubofapopka.com/event/food-fest-cardboard-building-camp-3d-art-camp-rising-3rd-4th-5th-and-6th/
LOCATION:Creative Hub of Apopka\, 124 E 2nd Street\, Apopka\, FL\, 32703\, United States
CATEGORIES:Artistic Workshop
ATTACH;FMTTYPE=image/jpeg:https://creativehubofapopka.com/wp-content/uploads/2026/02/ArtCampFood.jpg
ORGANIZER;CN="Jankun Creative Workshops":MAILTO:melanie@jankuncreative.com
END:VEVENT
END:VCALENDAR