BEGIN:VCALENDAR
VERSION:2.0
PRODID:-//Creative Hub of Apopka - ECPv6.15.20//NONSGML v1.0//EN
CALSCALE:GREGORIAN
METHOD:PUBLISH
X-WR-CALNAME:Creative Hub of Apopka
X-ORIGINAL-URL:https://creativehubofapopka.com
X-WR-CALDESC:Events for Creative Hub of Apopka
REFRESH-INTERVAL;VALUE=DURATION:PT1H
X-Robots-Tag:noindex
X-PUBLISHED-TTL:PT1H
BEGIN:VTIMEZONE
TZID:America/New_York
BEGIN:DAYLIGHT
TZOFFSETFROM:-0500
TZOFFSETTO:-0400
TZNAME:EDT
DTSTART:20240310T070000
END:DAYLIGHT
BEGIN:STANDARD
TZOFFSETFROM:-0400
TZOFFSETTO:-0500
TZNAME:EST
DTSTART:20241103T060000
END:STANDARD
BEGIN:DAYLIGHT
TZOFFSETFROM:-0500
TZOFFSETTO:-0400
TZNAME:EDT
DTSTART:20250309T070000
END:DAYLIGHT
BEGIN:STANDARD
TZOFFSETFROM:-0400
TZOFFSETTO:-0500
TZNAME:EST
DTSTART:20251102T060000
END:STANDARD
BEGIN:DAYLIGHT
TZOFFSETFROM:-0500
TZOFFSETTO:-0400
TZNAME:EDT
DTSTART:20260308T070000
END:DAYLIGHT
BEGIN:STANDARD
TZOFFSETFROM:-0400
TZOFFSETTO:-0500
TZNAME:EST
DTSTART:20261101T060000
END:STANDARD
END:VTIMEZONE
BEGIN:VEVENT
DTSTART;TZID=America/New_York:20250506T100000
DTEND;TZID=America/New_York:20250506T113000
DTSTAMP:20260421T143558
CREATED:20250301T201222Z
LAST-MODIFIED:20250301T201222Z
UID:10002718-1746525600-1746531000@creativehubofapopka.com
SUMMARY:Homeschool Art Class Winter/Spring 2025
DESCRIPTION:
URL:https://creativehubofapopka.com/event/homeschool-art-class-winter-spring-2025-10/
LOCATION:Creative Hub of Apopka\, 124 E 2nd Street\, Apopka\, FL\, 32703\, United States
CATEGORIES:Artistic Workshop
ATTACH;FMTTYPE=image/jpeg:https://creativehubofapopka.com/wp-content/uploads/2025/03/HomeschoolArt.jpg
ORGANIZER;CN="Jankun Creative Workshops":MAILTO:melanie@jankuncreative.com
END:VEVENT
BEGIN:VEVENT
DTSTART;TZID=America/New_York:20250429T170000
DTEND;TZID=America/New_York:20250429T184500
DTSTAMP:20260421T143558
CREATED:20250228T201214Z
LAST-MODIFIED:20250228T201214Z
UID:10002707-1745946000-1745952300@creativehubofapopka.com
SUMMARY:Kids Sketch Club Spring
DESCRIPTION:
URL:https://creativehubofapopka.com/event/kids-sketch-club-spring-2/
LOCATION:Creative Hub of Apopka\, 124 E 2nd Street\, Apopka\, FL\, 32703\, United States
CATEGORIES:Artistic Workshop
ATTACH;FMTTYPE=image/jpeg:https://creativehubofapopka.com/wp-content/uploads/2025/02/KidsSketchClub-2.jpg
ORGANIZER;CN="Jankun Creative Workshops":MAILTO:melanie@jankuncreative.com
END:VEVENT
BEGIN:VEVENT
DTSTART;TZID=America/New_York:20250426T090000
DTEND;TZID=America/New_York:20250426T200000
DTSTAMP:20260421T143558
CREATED:20250411T153716Z
LAST-MODIFIED:20250411T153847Z
UID:10002795-1745658000-1745697600@creativehubofapopka.com
SUMMARY:Private Event
DESCRIPTION:
URL:https://creativehubofapopka.com/event/private-event-7/
LOCATION:Creative Hub of Apopka\, 124 E 2nd Street\, Apopka\, FL\, 32703\, United States
CATEGORIES:Event
ATTACH;FMTTYPE=image/jpeg:https://creativehubofapopka.com/wp-content/uploads/2025/04/qtq80-6uxXAH.jpeg
ORGANIZER;CN="Jankun Creative Workshops":MAILTO:melanie@jankuncreative.com
END:VEVENT
BEGIN:VEVENT
DTSTART;TZID=America/New_York:20250422T170000
DTEND;TZID=America/New_York:20250422T184500
DTSTAMP:20260421T143558
CREATED:20250228T200850Z
LAST-MODIFIED:20250228T200850Z
UID:10002706-1745341200-1745347500@creativehubofapopka.com
SUMMARY:Kids Sketch Club Spring
DESCRIPTION:
URL:https://creativehubofapopka.com/event/kids-sketch-club-spring/
LOCATION:Creative Hub of Apopka\, 124 E 2nd Street\, Apopka\, FL\, 32703\, United States
CATEGORIES:Artistic Workshop
ATTACH;FMTTYPE=image/jpeg:https://creativehubofapopka.com/wp-content/uploads/2025/02/KidsSketchClub-2.jpg
ORGANIZER;CN="Jankun Creative Workshops":MAILTO:melanie@jankuncreative.com
END:VEVENT
BEGIN:VEVENT
DTSTART;TZID=America/New_York:20250419T170000
DTEND;TZID=America/New_York:20250419T210000
DTSTAMP:20260421T143558
CREATED:20250302T045138Z
LAST-MODIFIED:20250302T045138Z
UID:10002745-1745082000-1745096400@creativehubofapopka.com
SUMMARY:Private Party
DESCRIPTION:
URL:https://creativehubofapopka.com/event/private-party-10/
LOCATION:Creative Hub of Apopka\, 124 E 2nd Street\, Apopka\, FL\, 32703\, United States
CATEGORIES:Event
ATTACH;FMTTYPE=image/jpeg:https://creativehubofapopka.com/wp-content/uploads/2025/03/qtq80-CiuMQ5.jpeg
ORGANIZER;CN="Jankun Creative Workshops":MAILTO:melanie@jankuncreative.com
END:VEVENT
BEGIN:VEVENT
DTSTART;TZID=America/New_York:20250415T170000
DTEND;TZID=America/New_York:20250415T184500
DTSTAMP:20260421T143558
CREATED:20250228T200711Z
LAST-MODIFIED:20250228T200711Z
UID:10002705-1744736400-1744742700@creativehubofapopka.com
SUMMARY:Spring Kids Sketch Club
DESCRIPTION:
URL:https://creativehubofapopka.com/event/spring-kids-sketch-club-4/
LOCATION:Creative Hub of Apopka\, 124 E 2nd Street\, Apopka\, FL\, 32703\, United States
CATEGORIES:Artistic Workshop
ATTACH;FMTTYPE=image/jpeg:https://creativehubofapopka.com/wp-content/uploads/2025/02/KidsSketchClub-1.jpg
ORGANIZER;CN="Jankun Creative Workshops":MAILTO:melanie@jankuncreative.com
END:VEVENT
BEGIN:VEVENT
DTSTART;TZID=America/New_York:20250415T133000
DTEND;TZID=America/New_York:20250415T160000
DTSTAMP:20260421T143558
CREATED:20250409T025603Z
LAST-MODIFIED:20250409T025603Z
UID:10002793-1744723800-1744732800@creativehubofapopka.com
SUMMARY:Private Party
DESCRIPTION:
URL:https://creativehubofapopka.com/event/private-party-12/
LOCATION:Creative Hub of Apopka\, 124 E 2nd Street\, Apopka\, FL\, 32703\, United States
CATEGORIES:Event
ATTACH;FMTTYPE=image/jpeg:https://creativehubofapopka.com/wp-content/uploads/2025/02/qtq80-81u9zp.jpeg
ORGANIZER;CN="Jankun Creative Workshops":MAILTO:melanie@jankuncreative.com
END:VEVENT
BEGIN:VEVENT
DTSTART;TZID=America/New_York:20250415T100000
DTEND;TZID=America/New_York:20250415T113000
DTSTAMP:20260421T143558
CREATED:20241229T152745Z
LAST-MODIFIED:20250301T195949Z
UID:10002678-1744711200-1744716600@creativehubofapopka.com
SUMMARY:Homeschool Art Class Winter/Spring 2025
DESCRIPTION:
URL:https://creativehubofapopka.com/event/homeschool-art-class-winter-spring-2025/2025-04-15/
LOCATION:Creative Hub of Apopka\, 124 E 2nd Street\, Apopka\, FL\, 32703\, United States
CATEGORIES:Artistic Workshop
ATTACH;FMTTYPE=image/jpeg:https://creativehubofapopka.com/wp-content/uploads/2024/12/CHOA_HomeSchoolArtClasses.jpg
ORGANIZER;CN="Jankun Creative Workshops":MAILTO:melanie@jankuncreative.com
END:VEVENT
BEGIN:VEVENT
DTSTART;TZID=America/New_York:20250412T100000
DTEND;TZID=America/New_York:20250412T140000
DTSTAMP:20260421T143558
CREATED:20250325T140444Z
LAST-MODIFIED:20250412T051220Z
UID:10002768-1744452000-1744466400@creativehubofapopka.com
SUMMARY:Private Event
DESCRIPTION:
URL:https://creativehubofapopka.com/event/private-event-5/
LOCATION:Creative Hub of Apopka\, 124 E 2nd Street\, Apopka\, FL\, 32703\, United States
CATEGORIES:Event
ATTACH;FMTTYPE=image/jpeg:https://creativehubofapopka.com/wp-content/uploads/2025/03/qtq80-tvBGus.jpeg
ORGANIZER;CN="Jankun Creative Workshops":MAILTO:melanie@jankuncreative.com
END:VEVENT
BEGIN:VEVENT
DTSTART;TZID=America/New_York:20250408T170000
DTEND;TZID=America/New_York:20250408T184500
DTSTAMP:20260421T143558
CREATED:20250228T055023Z
LAST-MODIFIED:20250301T201550Z
UID:10002704-1744131600-1744137900@creativehubofapopka.com
SUMMARY:Spring Kids Sketch Club
DESCRIPTION:
URL:https://creativehubofapopka.com/event/spring-kids-sketch-club-3/
LOCATION:Creative Hub of Apopka\, 124 E 2nd Street\, Apopka\, FL\, 32703\, United States
CATEGORIES:Artistic Workshop
ATTACH;FMTTYPE=image/jpeg:https://creativehubofapopka.com/wp-content/uploads/2025/02/KidsSketchClub-2.jpg
ORGANIZER;CN="Jankun Creative Workshops":MAILTO:melanie@jankuncreative.com
END:VEVENT
BEGIN:VEVENT
DTSTART;TZID=America/New_York:20250408T100000
DTEND;TZID=America/New_York:20250408T113000
DTSTAMP:20260421T143558
CREATED:20250301T201401Z
LAST-MODIFIED:20250301T201401Z
UID:10002719-1744106400-1744111800@creativehubofapopka.com
SUMMARY:Homeschool Art Class Winter/Spring 2025
DESCRIPTION:
URL:https://creativehubofapopka.com/event/homeschool-art-class-winter-spring-2025-11/
LOCATION:Creative Hub of Apopka\, 124 E 2nd Street\, Apopka\, FL\, 32703\, United States
CATEGORIES:Artistic Workshop
ATTACH;FMTTYPE=image/jpeg:https://creativehubofapopka.com/wp-content/uploads/2025/03/HomeschoolArt-1.jpg
ORGANIZER;CN="Jankun Creative Workshops":MAILTO:melanie@jankuncreative.com
END:VEVENT
BEGIN:VEVENT
DTSTART;TZID=America/New_York:20250408T100000
DTEND;TZID=America/New_York:20250408T113000
DTSTAMP:20260421T143558
CREATED:20241229T152745Z
LAST-MODIFIED:20250301T195949Z
UID:10002677-1744106400-1744111800@creativehubofapopka.com
SUMMARY:Homeschool Art Class Winter/Spring 2025
DESCRIPTION:
URL:https://creativehubofapopka.com/event/homeschool-art-class-winter-spring-2025/2025-04-08/
LOCATION:Creative Hub of Apopka\, 124 E 2nd Street\, Apopka\, FL\, 32703\, United States
CATEGORIES:Artistic Workshop
ATTACH;FMTTYPE=image/jpeg:https://creativehubofapopka.com/wp-content/uploads/2024/12/CHOA_HomeSchoolArtClasses.jpg
ORGANIZER;CN="Jankun Creative Workshops":MAILTO:melanie@jankuncreative.com
END:VEVENT
BEGIN:VEVENT
DTSTART;TZID=America/New_York:20250401T170000
DTEND;TZID=America/New_York:20250401T184500
DTSTAMP:20260421T143558
CREATED:20250228T050202Z
LAST-MODIFIED:20250228T050202Z
UID:10002703-1743526800-1743533100@creativehubofapopka.com
SUMMARY:Spring Kids Sketch Club
DESCRIPTION:
URL:https://creativehubofapopka.com/event/spring-kids-sketch-club-2/
LOCATION:Creative Hub of Apopka\, 124 E 2nd Street\, Apopka\, FL\, 32703\, United States
CATEGORIES:Artistic Workshop
ATTACH;FMTTYPE=image/jpeg:https://creativehubofapopka.com/wp-content/uploads/2025/02/KidsSketchClub.jpg
ORGANIZER;CN="Jankun Creative Workshops":MAILTO:melanie@jankuncreative.com
END:VEVENT
BEGIN:VEVENT
DTSTART;TZID=America/New_York:20250401T100000
DTEND;TZID=America/New_York:20250401T113000
DTSTAMP:20260421T143558
CREATED:20250301T201435Z
LAST-MODIFIED:20250301T201435Z
UID:10002720-1743501600-1743507000@creativehubofapopka.com
SUMMARY:Homeschool Art Class Winter/Spring 2025
DESCRIPTION:
URL:https://creativehubofapopka.com/event/homeschool-art-class-winter-spring-2025-12/
LOCATION:Creative Hub of Apopka\, 124 E 2nd Street\, Apopka\, FL\, 32703\, United States
CATEGORIES:Artistic Workshop
ATTACH;FMTTYPE=image/jpeg:https://creativehubofapopka.com/wp-content/uploads/2025/03/HomeschoolArt-1.jpg
ORGANIZER;CN="Jankun Creative Workshops":MAILTO:melanie@jankuncreative.com
END:VEVENT
BEGIN:VEVENT
DTSTART;TZID=America/New_York:20250401T100000
DTEND;TZID=America/New_York:20250401T113000
DTSTAMP:20260421T143558
CREATED:20241229T152745Z
LAST-MODIFIED:20250301T195949Z
UID:10002676-1743501600-1743507000@creativehubofapopka.com
SUMMARY:Homeschool Art Class Winter/Spring 2025
DESCRIPTION:
URL:https://creativehubofapopka.com/event/homeschool-art-class-winter-spring-2025/2025-04-01/
LOCATION:Creative Hub of Apopka\, 124 E 2nd Street\, Apopka\, FL\, 32703\, United States
CATEGORIES:Artistic Workshop
ATTACH;FMTTYPE=image/jpeg:https://creativehubofapopka.com/wp-content/uploads/2024/12/CHOA_HomeSchoolArtClasses.jpg
ORGANIZER;CN="Jankun Creative Workshops":MAILTO:melanie@jankuncreative.com
END:VEVENT
BEGIN:VEVENT
DTSTART;TZID=America/New_York:20250329T140000
DTEND;TZID=America/New_York:20250329T170000
DTSTAMP:20260421T143558
CREATED:20250302T044431Z
LAST-MODIFIED:20250302T044431Z
UID:10002741-1743256800-1743267600@creativehubofapopka.com
SUMMARY:Birthday Party
DESCRIPTION:
URL:https://creativehubofapopka.com/event/birthday-party/
LOCATION:Creative Hub of Apopka\, 124 E 2nd Street\, Apopka\, FL\, 32703\, United States
ATTACH;FMTTYPE=image/jpeg:https://creativehubofapopka.com/wp-content/uploads/2025/03/qtq80-CIZTtU.jpeg
ORGANIZER;CN="Jankun Creative Workshops":MAILTO:melanie@jankuncreative.com
END:VEVENT
BEGIN:VEVENT
DTSTART;TZID=America/New_York:20250325T170000
DTEND;TZID=America/New_York:20250325T184500
DTSTAMP:20260421T143558
CREATED:20250228T045917Z
LAST-MODIFIED:20250228T050349Z
UID:10002702-1742922000-1742928300@creativehubofapopka.com
SUMMARY:Spring Kids Sketch Club
DESCRIPTION:
URL:https://creativehubofapopka.com/event/spring-kids-sketch-club/
LOCATION:Creative Hub of Apopka\, 124 E 2nd Street\, Apopka\, FL\, 32703\, United States
CATEGORIES:Artistic Workshop
ATTACH;FMTTYPE=image/jpeg:https://creativehubofapopka.com/wp-content/uploads/2025/02/KidsSketchClub.jpg
ORGANIZER;CN="Jankun Creative Workshops":MAILTO:melanie@jankuncreative.com
END:VEVENT
BEGIN:VEVENT
DTSTART;TZID=America/New_York:20250325T100000
DTEND;TZID=America/New_York:20250325T113000
DTSTAMP:20260421T143558
CREATED:20250301T201135Z
LAST-MODIFIED:20250301T201639Z
UID:10002717-1742896800-1742902200@creativehubofapopka.com
SUMMARY:Homeschool Art Class Winter/Spring 2025
DESCRIPTION:
URL:https://creativehubofapopka.com/event/homeschool-art-class-winter-spring-2025-9/
LOCATION:Creative Hub of Apopka\, 124 E 2nd Street\, Apopka\, FL\, 32703\, United States
CATEGORIES:Artistic Workshop
ATTACH;FMTTYPE=image/jpeg:https://creativehubofapopka.com/wp-content/uploads/2025/03/HomeschoolArt.jpg
ORGANIZER;CN="Jankun Creative Workshops":MAILTO:melanie@jankuncreative.com
END:VEVENT
BEGIN:VEVENT
DTSTART;TZID=America/New_York:20250325T100000
DTEND;TZID=America/New_York:20250325T113000
DTSTAMP:20260421T143558
CREATED:20241229T152745Z
LAST-MODIFIED:20250301T195949Z
UID:10002675-1742896800-1742902200@creativehubofapopka.com
SUMMARY:Homeschool Art Class Winter/Spring 2025
DESCRIPTION:
URL:https://creativehubofapopka.com/event/homeschool-art-class-winter-spring-2025/2025-03-25/
LOCATION:Creative Hub of Apopka\, 124 E 2nd Street\, Apopka\, FL\, 32703\, United States
CATEGORIES:Artistic Workshop
ATTACH;FMTTYPE=image/jpeg:https://creativehubofapopka.com/wp-content/uploads/2024/12/CHOA_HomeSchoolArtClasses.jpg
ORGANIZER;CN="Jankun Creative Workshops":MAILTO:melanie@jankuncreative.com
END:VEVENT
BEGIN:VEVENT
DTSTART;TZID=America/New_York:20250322T110000
DTEND;TZID=America/New_York:20250322T140000
DTSTAMP:20260421T143558
CREATED:20250302T044532Z
LAST-MODIFIED:20250302T044532Z
UID:10002742-1742641200-1742652000@creativehubofapopka.com
SUMMARY:Birthday Party
DESCRIPTION:
URL:https://creativehubofapopka.com/event/birthday-party-2/
LOCATION:Creative Hub of Apopka\, 124 E 2nd Street\, Apopka\, FL\, 32703\, United States
CATEGORIES:Event
ATTACH;FMTTYPE=image/jpeg:https://creativehubofapopka.com/wp-content/uploads/2025/03/qtq80-CIZTtU.jpeg
ORGANIZER;CN="Jankun Creative Workshops":MAILTO:melanie@jankuncreative.com
END:VEVENT
BEGIN:VEVENT
DTSTART;TZID=America/New_York:20250322T053000
DTEND;TZID=America/New_York:20250322T200000
DTSTAMP:20260421T143558
CREATED:20250221T175301Z
LAST-MODIFIED:20250221T175301Z
UID:10002693-1742621400-1742673600@creativehubofapopka.com
SUMMARY:Creative Kids Club
DESCRIPTION:
URL:https://creativehubofapopka.com/event/creative-kids-club/
LOCATION:Creative Hub of Apopka\, 124 E 2nd Street\, Apopka\, FL\, 32703\, United States
CATEGORIES:Artistic Workshop
ATTACH;FMTTYPE=image/jpeg:https://creativehubofapopka.com/wp-content/uploads/2025/02/March_kidsclub.jpg
ORGANIZER;CN="Jankun Creative Workshops":MAILTO:melanie@jankuncreative.com
END:VEVENT
BEGIN:VEVENT
DTSTART;TZID=America/New_York:20250318T100000
DTEND;TZID=America/New_York:20250318T113000
DTSTAMP:20260421T143558
CREATED:20250301T201032Z
LAST-MODIFIED:20250301T201712Z
UID:10002716-1742292000-1742297400@creativehubofapopka.com
SUMMARY:Homeschool Art Class Winter/Spring 2025
DESCRIPTION:
URL:https://creativehubofapopka.com/event/homeschool-art-class-winter-spring-2025-8/
LOCATION:Creative Hub of Apopka\, 124 E 2nd Street\, Apopka\, FL\, 32703\, United States
CATEGORIES:Artistic Workshop
ATTACH;FMTTYPE=image/jpeg:https://creativehubofapopka.com/wp-content/uploads/2025/03/HomeschoolArt-1.jpg
ORGANIZER;CN="Jankun Creative Workshops":MAILTO:melanie@jankuncreative.com
END:VEVENT
BEGIN:VEVENT
DTSTART;TZID=America/New_York:20250318T100000
DTEND;TZID=America/New_York:20250318T113000
DTSTAMP:20260421T143558
CREATED:20241229T152745Z
LAST-MODIFIED:20250301T195949Z
UID:10002674-1742292000-1742297400@creativehubofapopka.com
SUMMARY:Homeschool Art Class Winter/Spring 2025
DESCRIPTION:
URL:https://creativehubofapopka.com/event/homeschool-art-class-winter-spring-2025/2025-03-18/
LOCATION:Creative Hub of Apopka\, 124 E 2nd Street\, Apopka\, FL\, 32703\, United States
CATEGORIES:Artistic Workshop
ATTACH;FMTTYPE=image/jpeg:https://creativehubofapopka.com/wp-content/uploads/2024/12/CHOA_HomeSchoolArtClasses.jpg
ORGANIZER;CN="Jankun Creative Workshops":MAILTO:melanie@jankuncreative.com
END:VEVENT
BEGIN:VEVENT
DTSTART;TZID=America/New_York:20250315T150000
DTEND;TZID=America/New_York:20250315T170000
DTSTAMP:20260421T143558
CREATED:20250224T021557Z
LAST-MODIFIED:20250224T021557Z
UID:10002696-1742050800-1742058000@creativehubofapopka.com
SUMMARY:Spring 2025 DIY Wood Workshop
DESCRIPTION:
URL:https://creativehubofapopka.com/event/spring-2025-diy-wood-workshop/
LOCATION:Creative Hub of Apopka\, 124 E 2nd Street\, Apopka\, FL\, 32703\, United States
CATEGORIES:Artistic Workshop
ATTACH;FMTTYPE=image/jpeg:https://creativehubofapopka.com/wp-content/uploads/2025/02/DIYSpringRefresh.jpg
ORGANIZER;CN="Jankun Creative Workshops":MAILTO:melanie@jankuncreative.com
END:VEVENT
BEGIN:VEVENT
DTSTART;TZID=America/New_York:20250311T100000
DTEND;TZID=America/New_York:20250311T113000
DTSTAMP:20260421T143558
CREATED:20250301T200954Z
LAST-MODIFIED:20250301T201755Z
UID:10002715-1741687200-1741692600@creativehubofapopka.com
SUMMARY:Homeschool Art Class Winter/Spring 2025
DESCRIPTION:
URL:https://creativehubofapopka.com/event/homeschool-art-class-winter-spring-2025-7/
LOCATION:Creative Hub of Apopka\, 124 E 2nd Street\, Apopka\, FL\, 32703\, United States
CATEGORIES:Artistic Workshop
ATTACH;FMTTYPE=image/jpeg:https://creativehubofapopka.com/wp-content/uploads/2025/03/HomeschoolArt-1.jpg
ORGANIZER;CN="Jankun Creative Workshops":MAILTO:melanie@jankuncreative.com
END:VEVENT
BEGIN:VEVENT
DTSTART;TZID=America/New_York:20250311T100000
DTEND;TZID=America/New_York:20250311T113000
DTSTAMP:20260421T143558
CREATED:20241229T152745Z
LAST-MODIFIED:20250301T195949Z
UID:10002673-1741687200-1741692600@creativehubofapopka.com
SUMMARY:Homeschool Art Class Winter/Spring 2025
DESCRIPTION:
URL:https://creativehubofapopka.com/event/homeschool-art-class-winter-spring-2025/2025-03-11/
LOCATION:Creative Hub of Apopka\, 124 E 2nd Street\, Apopka\, FL\, 32703\, United States
CATEGORIES:Artistic Workshop
ATTACH;FMTTYPE=image/jpeg:https://creativehubofapopka.com/wp-content/uploads/2024/12/CHOA_HomeSchoolArtClasses.jpg
ORGANIZER;CN="Jankun Creative Workshops":MAILTO:melanie@jankuncreative.com
END:VEVENT
BEGIN:VEVENT
DTSTART;TZID=America/New_York:20250308T170000
DTEND;TZID=America/New_York:20250308T210000
DTSTAMP:20260421T143558
CREATED:20250221T184657Z
LAST-MODIFIED:20250221T184657Z
UID:10002694-1741453200-1741467600@creativehubofapopka.com
SUMMARY:Private Party
DESCRIPTION:
URL:https://creativehubofapopka.com/event/private-party-9/
LOCATION:Creative Hub of Apopka\, 124 E 2nd Street\, Apopka\, FL\, 32703\, United States
CATEGORIES:Artistic Workshop
ATTACH;FMTTYPE=image/jpeg:https://creativehubofapopka.com/wp-content/uploads/2025/02/qtq80-81u9zp.jpeg
ORGANIZER;CN="Jankun Creative Workshops":MAILTO:melanie@jankuncreative.com
END:VEVENT
BEGIN:VEVENT
DTSTART;TZID=America/New_York:20250304T100000
DTEND;TZID=America/New_York:20250304T113000
DTSTAMP:20260421T143558
CREATED:20250301T200843Z
LAST-MODIFIED:20250301T200843Z
UID:10002714-1741082400-1741087800@creativehubofapopka.com
SUMMARY:Homeschool Art Class Winter/Spring 2025
DESCRIPTION:
URL:https://creativehubofapopka.com/event/homeschool-art-class-winter-spring-2025-6/
LOCATION:Creative Hub of Apopka\, 124 E 2nd Street\, Apopka\, FL\, 32703\, United States
CATEGORIES:Artistic Workshop
ATTACH;FMTTYPE=image/jpeg:https://creativehubofapopka.com/wp-content/uploads/2025/03/HomeschoolArt-1.jpg
ORGANIZER;CN="Jankun Creative Workshops":MAILTO:melanie@jankuncreative.com
END:VEVENT
BEGIN:VEVENT
DTSTART;TZID=America/New_York:20250304T100000
DTEND;TZID=America/New_York:20250304T113000
DTSTAMP:20260421T143558
CREATED:20241229T152745Z
LAST-MODIFIED:20250301T195949Z
UID:10002672-1741082400-1741087800@creativehubofapopka.com
SUMMARY:Homeschool Art Class Winter/Spring 2025
DESCRIPTION:
URL:https://creativehubofapopka.com/event/homeschool-art-class-winter-spring-2025/2025-03-04/
LOCATION:Creative Hub of Apopka\, 124 E 2nd Street\, Apopka\, FL\, 32703\, United States
CATEGORIES:Artistic Workshop
ATTACH;FMTTYPE=image/jpeg:https://creativehubofapopka.com/wp-content/uploads/2024/12/CHOA_HomeSchoolArtClasses.jpg
ORGANIZER;CN="Jankun Creative Workshops":MAILTO:melanie@jankuncreative.com
END:VEVENT
BEGIN:VEVENT
DTSTART;TZID=America/New_York:20250225T100000
DTEND;TZID=America/New_York:20250225T113000
DTSTAMP:20260421T143558
CREATED:20250301T200708Z
LAST-MODIFIED:20250301T201829Z
UID:10002713-1740477600-1740483000@creativehubofapopka.com
SUMMARY:Homeschool Art Class Winter/Spring 2025
DESCRIPTION:
URL:https://creativehubofapopka.com/event/homeschool-art-class-winter-spring-2025-5/
LOCATION:Creative Hub of Apopka\, 124 E 2nd Street\, Apopka\, FL\, 32703\, United States
CATEGORIES:Artistic Workshop
ATTACH;FMTTYPE=image/jpeg:https://creativehubofapopka.com/wp-content/uploads/2025/03/HomeschoolArt-1.jpg
ORGANIZER;CN="Jankun Creative Workshops":MAILTO:melanie@jankuncreative.com
END:VEVENT
END:VCALENDAR