BEGIN:VCALENDAR
VERSION:2.0
PRODID:-//Creative Hub of Apopka - ECPv6.15.20//NONSGML v1.0//EN
CALSCALE:GREGORIAN
METHOD:PUBLISH
X-ORIGINAL-URL:https://creativehubofapopka.com
X-WR-CALDESC:Events for Creative Hub of Apopka
REFRESH-INTERVAL;VALUE=DURATION:PT1H
X-Robots-Tag:noindex
X-PUBLISHED-TTL:PT1H
BEGIN:VTIMEZONE
TZID:America/New_York
BEGIN:DAYLIGHT
TZOFFSETFROM:-0500
TZOFFSETTO:-0400
TZNAME:EDT
DTSTART:20230312T070000
END:DAYLIGHT
BEGIN:STANDARD
TZOFFSETFROM:-0400
TZOFFSETTO:-0500
TZNAME:EST
DTSTART:20231105T060000
END:STANDARD
BEGIN:DAYLIGHT
TZOFFSETFROM:-0500
TZOFFSETTO:-0400
TZNAME:EDT
DTSTART:20240310T070000
END:DAYLIGHT
BEGIN:STANDARD
TZOFFSETFROM:-0400
TZOFFSETTO:-0500
TZNAME:EST
DTSTART:20241103T060000
END:STANDARD
BEGIN:DAYLIGHT
TZOFFSETFROM:-0500
TZOFFSETTO:-0400
TZNAME:EDT
DTSTART:20250309T070000
END:DAYLIGHT
BEGIN:STANDARD
TZOFFSETFROM:-0400
TZOFFSETTO:-0500
TZNAME:EST
DTSTART:20251102T060000
END:STANDARD
END:VTIMEZONE
BEGIN:VEVENT
DTSTART;TZID=America/New_York:20241019T180000
DTEND;TZID=America/New_York:20241019T200000
DTSTAMP:20260421T171722
CREATED:20241015T010231Z
LAST-MODIFIED:20241015T010231Z
UID:10002641-1729360800-1729368000@creativehubofapopka.com
SUMMARY:Private Party
DESCRIPTION:
URL:https://creativehubofapopka.com/event/private-party-3/
LOCATION:Creative Hub of Apopka\, 124 E 2nd Street\, Apopka\, FL\, 32703\, United States
CATEGORIES:Event
ATTACH;FMTTYPE=image/jpeg:https://creativehubofapopka.com/wp-content/uploads/2024/10/qtq80-MalcU9.jpeg
ORGANIZER;CN="Jankun Creative Workshops":MAILTO:melanie@jankuncreative.com
END:VEVENT
BEGIN:VEVENT
DTSTART;TZID=America/New_York:20241019T100000
DTEND;TZID=America/New_York:20241019T130000
DTSTAMP:20260421T171722
CREATED:20241015T005951Z
LAST-MODIFIED:20241015T010034Z
UID:10002640-1729332000-1729342800@creativehubofapopka.com
SUMMARY:Savannah's Birthday Party
DESCRIPTION:
URL:https://creativehubofapopka.com/event/savannahs-birthday-party/
LOCATION:Creative Hub of Apopka\, 124 E 2nd Street\, Apopka\, FL\, 32703\, United States
ATTACH;FMTTYPE=image/jpeg:https://creativehubofapopka.com/wp-content/uploads/2024/10/qtq80-JMwANq.jpeg
ORGANIZER;CN="Jankun Creative Workshops":MAILTO:melanie@jankuncreative.com
END:VEVENT
BEGIN:VEVENT
DTSTART;TZID=America/New_York:20241018T173000
DTEND;TZID=America/New_York:20241018T200000
DTSTAMP:20260421T171722
CREATED:20240930T024223Z
LAST-MODIFIED:20240930T024223Z
UID:10002638-1729272600-1729281600@creativehubofapopka.com
SUMMARY:Squismallow Art Bash | Creative Kids Club
DESCRIPTION:
URL:https://creativehubofapopka.com/event/squismallow-art-bash-creative-kids-club/
LOCATION:Creative Hub of Apopka\, 124 E 2nd Street\, Apopka\, FL\, 32703\, United States
CATEGORIES:Artistic Workshop
ATTACH;FMTTYPE=image/jpeg:https://creativehubofapopka.com/wp-content/uploads/2024/09/Squishmallow.jpg
ORGANIZER;CN="Jankun Creative Workshops":MAILTO:melanie@jankuncreative.com
END:VEVENT
BEGIN:VEVENT
DTSTART;TZID=America/New_York:20241015T100000
DTEND;TZID=America/New_York:20241015T113000
DTSTAMP:20260421T171722
CREATED:20240723T150413Z
LAST-MODIFIED:20240723T150413Z
UID:10002414-1728986400-1728991800@creativehubofapopka.com
SUMMARY:Homeschool Art Class Fall 2024
DESCRIPTION:
URL:https://creativehubofapopka.com/event/homeschool-art-class-fall-2024/2024-10-15/
LOCATION:Creative Hub of Apopka\, 124 E 2nd Street\, Apopka\, FL\, 32703\, United States
ATTACH;FMTTYPE=image/png:https://creativehubofapopka.com/wp-content/uploads/2024/07/HomeSchoolArtClass.png
ORGANIZER;CN="Jankun Creative Workshops":MAILTO:melanie@jankuncreative.com
END:VEVENT
BEGIN:VEVENT
DTSTART;TZID=America/New_York:20241012T080000
DTEND;TZID=America/New_York:20241012T170000
DTSTAMP:20260421T171722
CREATED:20240919T194714Z
LAST-MODIFIED:20240919T194714Z
UID:10002574-1728720000-1728752400@creativehubofapopka.com
SUMMARY:Private Event
DESCRIPTION:
URL:https://creativehubofapopka.com/event/private-event-2/
LOCATION:Creative Hub of Apopka\, 124 E 2nd Street\, Apopka\, FL\, 32703\, United States
CATEGORIES:Event
ORGANIZER;CN="Jankun Creative Workshops":MAILTO:melanie@jankuncreative.com
END:VEVENT
BEGIN:VEVENT
DTSTART;TZID=America/New_York:20241008T100000
DTEND;TZID=America/New_York:20241008T113000
DTSTAMP:20260421T171722
CREATED:20240723T150413Z
LAST-MODIFIED:20240723T150413Z
UID:10002413-1728381600-1728387000@creativehubofapopka.com
SUMMARY:Homeschool Art Class Fall 2024
DESCRIPTION:
URL:https://creativehubofapopka.com/event/homeschool-art-class-fall-2024/2024-10-08/
LOCATION:Creative Hub of Apopka\, 124 E 2nd Street\, Apopka\, FL\, 32703\, United States
ATTACH;FMTTYPE=image/png:https://creativehubofapopka.com/wp-content/uploads/2024/07/HomeSchoolArtClass.png
ORGANIZER;CN="Jankun Creative Workshops":MAILTO:melanie@jankuncreative.com
END:VEVENT
BEGIN:VEVENT
DTSTART;TZID=America/New_York:20241005T090000
DTEND;TZID=America/New_York:20241005T120000
DTSTAMP:20260421T171722
CREATED:20240828T154630Z
LAST-MODIFIED:20240828T154630Z
UID:10002560-1728118800-1728129600@creativehubofapopka.com
SUMMARY:2024 Scarecrow Set-Up
DESCRIPTION:
URL:https://creativehubofapopka.com/event/2024-scarecrow-set-up/
LOCATION:Creative Hub of Apopka\, 124 E 2nd Street\, Apopka\, FL\, 32703\, United States
CATEGORIES:Event
ATTACH;FMTTYPE=image/jpeg:https://creativehubofapopka.com/wp-content/uploads/2024/08/Scarecrow.jpg
ORGANIZER;CN="Jankun Creative Workshops":MAILTO:melanie@jankuncreative.com
END:VEVENT
BEGIN:VEVENT
DTSTART;TZID=America/New_York:20241001T100000
DTEND;TZID=America/New_York:20241001T113000
DTSTAMP:20260421T171722
CREATED:20240723T150413Z
LAST-MODIFIED:20240723T150413Z
UID:10002412-1727776800-1727782200@creativehubofapopka.com
SUMMARY:Homeschool Art Class Fall 2024
DESCRIPTION:
URL:https://creativehubofapopka.com/event/homeschool-art-class-fall-2024/2024-10-01/
LOCATION:Creative Hub of Apopka\, 124 E 2nd Street\, Apopka\, FL\, 32703\, United States
ATTACH;FMTTYPE=image/png:https://creativehubofapopka.com/wp-content/uploads/2024/07/HomeSchoolArtClass.png
ORGANIZER;CN="Jankun Creative Workshops":MAILTO:melanie@jankuncreative.com
END:VEVENT
BEGIN:VEVENT
DTSTART;TZID=America/New_York:20240928T180000
DTEND;TZID=America/New_York:20240928T200000
DTSTAMP:20260421T171722
CREATED:20240919T200004Z
LAST-MODIFIED:20240926T173930Z
UID:10002576-1727546400-1727553600@creativehubofapopka.com
SUMMARY:DIY Halloween Spooky Party
DESCRIPTION:
URL:https://creativehubofapopka.com/event/diy-halloween-spooky-party/
LOCATION:Creative Hub of Apopka\, 124 E 2nd Street\, Apopka\, FL\, 32703\, United States
CATEGORIES:Artistic Workshop
ATTACH;FMTTYPE=image/jpeg:https://creativehubofapopka.com/wp-content/uploads/2024/09/HalloweenSpooky.jpg
ORGANIZER;CN="Jankun Creative Workshops":MAILTO:melanie@jankuncreative.com
END:VEVENT
BEGIN:VEVENT
DTSTART;TZID=America/New_York:20240927T173000
DTEND;TZID=America/New_York:20240927T193000
DTSTAMP:20260421T171722
CREATED:20240912T032457Z
LAST-MODIFIED:20240912T032457Z
UID:10002571-1727458200-1727465400@creativehubofapopka.com
SUMMARY:Coffee & Canvas art night at Canon
DESCRIPTION:
URL:https://creativehubofapopka.com/event/coffee-canvas-art-night-at-canon/
LOCATION:Canon Coffee Apopka\, 74 W 2nd St\, Apopka\, FL\, 32712\, United States
CATEGORIES:Artistic Workshop
ATTACH;FMTTYPE=image/jpeg:https://creativehubofapopka.com/wp-content/uploads/2024/09/CoffeeandCanvas.jpg
ORGANIZER;CN="Jankun Creative Workshops":MAILTO:melanie@jankuncreative.com
END:VEVENT
BEGIN:VEVENT
DTSTART;TZID=America/New_York:20240924T100000
DTEND;TZID=America/New_York:20240924T113000
DTSTAMP:20260421T171722
CREATED:20240723T150413Z
LAST-MODIFIED:20240723T150413Z
UID:10002411-1727172000-1727177400@creativehubofapopka.com
SUMMARY:Homeschool Art Class Fall 2024
DESCRIPTION:
URL:https://creativehubofapopka.com/event/homeschool-art-class-fall-2024/2024-09-24/
LOCATION:Creative Hub of Apopka\, 124 E 2nd Street\, Apopka\, FL\, 32703\, United States
ATTACH;FMTTYPE=image/png:https://creativehubofapopka.com/wp-content/uploads/2024/07/HomeSchoolArtClass.png
ORGANIZER;CN="Jankun Creative Workshops":MAILTO:melanie@jankuncreative.com
END:VEVENT
BEGIN:VEVENT
DTSTART;TZID=America/New_York:20240917T100000
DTEND;TZID=America/New_York:20240917T113000
DTSTAMP:20260421T171722
CREATED:20240723T150413Z
LAST-MODIFIED:20240723T150413Z
UID:10002410-1726567200-1726572600@creativehubofapopka.com
SUMMARY:Homeschool Art Class Fall 2024
DESCRIPTION:
URL:https://creativehubofapopka.com/event/homeschool-art-class-fall-2024/2024-09-17/
LOCATION:Creative Hub of Apopka\, 124 E 2nd Street\, Apopka\, FL\, 32703\, United States
ATTACH;FMTTYPE=image/png:https://creativehubofapopka.com/wp-content/uploads/2024/07/HomeSchoolArtClass.png
ORGANIZER;CN="Jankun Creative Workshops":MAILTO:melanie@jankuncreative.com
END:VEVENT
BEGIN:VEVENT
DTSTART;TZID=America/New_York:20240915T080000
DTEND;TZID=America/New_York:20240915T170000
DTSTAMP:20260421T171722
CREATED:20240828T154437Z
LAST-MODIFIED:20240828T155059Z
UID:10002507-1726387200-1726419600@creativehubofapopka.com
SUMMARY:2024 Scarecrow Trail with First Methodist Church of Apopka & Creative Hub of Apopka
DESCRIPTION:
URL:https://creativehubofapopka.com/event/2024-scarecrow-trail-with-first-methodist-church-of-apopka-creative-hub-of-apopka/2024-09-15/
LOCATION:Creative Hub of Apopka\, 124 E 2nd Street\, Apopka\, FL\, 32703\, United States
CATEGORIES:Event
ATTACH;FMTTYPE=image/jpeg:https://creativehubofapopka.com/wp-content/uploads/2024/08/Scarecrow.jpg
ORGANIZER;CN="Jankun Creative Workshops":MAILTO:melanie@jankuncreative.com
END:VEVENT
BEGIN:VEVENT
DTSTART;TZID=America/New_York:20240910T100000
DTEND;TZID=America/New_York:20240910T113000
DTSTAMP:20260421T171722
CREATED:20240723T150413Z
LAST-MODIFIED:20240723T150413Z
UID:10002409-1725962400-1725967800@creativehubofapopka.com
SUMMARY:Homeschool Art Class Fall 2024
DESCRIPTION:
URL:https://creativehubofapopka.com/event/homeschool-art-class-fall-2024/2024-09-10/
LOCATION:Creative Hub of Apopka\, 124 E 2nd Street\, Apopka\, FL\, 32703\, United States
ATTACH;FMTTYPE=image/png:https://creativehubofapopka.com/wp-content/uploads/2024/07/HomeSchoolArtClass.png
ORGANIZER;CN="Jankun Creative Workshops":MAILTO:melanie@jankuncreative.com
END:VEVENT
BEGIN:VEVENT
DTSTART;TZID=America/New_York:20240908T130000
DTEND;TZID=America/New_York:20240908T160000
DTSTAMP:20260421T171722
CREATED:20240830T172351Z
LAST-MODIFIED:20240830T172351Z
UID:10002565-1725800400-1725811200@creativehubofapopka.com
SUMMARY:2024 Fall DIY Wood Workshop
DESCRIPTION:
URL:https://creativehubofapopka.com/event/2024-fall-diy-wood-workshop/
LOCATION:Creative Hub of Apopka\, 124 E 2nd Street\, Apopka\, FL\, 32703\, United States
CATEGORIES:Artistic Workshop
ATTACH;FMTTYPE=image/jpeg:https://creativehubofapopka.com/wp-content/uploads/2024/08/Fall2024DIYWorkshop.jpg
ORGANIZER;CN="Jankun Creative Workshops":MAILTO:melanie@jankuncreative.com
END:VEVENT
BEGIN:VEVENT
DTSTART;TZID=America/New_York:20240908T080000
DTEND;TZID=America/New_York:20240908T170000
DTSTAMP:20260421T171722
CREATED:20240828T154437Z
LAST-MODIFIED:20240828T155059Z
UID:10002506-1725782400-1725814800@creativehubofapopka.com
SUMMARY:2024 Scarecrow Trail with First Methodist Church of Apopka & Creative Hub of Apopka
DESCRIPTION:
URL:https://creativehubofapopka.com/event/2024-scarecrow-trail-with-first-methodist-church-of-apopka-creative-hub-of-apopka/2024-09-08/
LOCATION:Creative Hub of Apopka\, 124 E 2nd Street\, Apopka\, FL\, 32703\, United States
CATEGORIES:Event
ATTACH;FMTTYPE=image/jpeg:https://creativehubofapopka.com/wp-content/uploads/2024/08/Scarecrow.jpg
ORGANIZER;CN="Jankun Creative Workshops":MAILTO:melanie@jankuncreative.com
END:VEVENT
BEGIN:VEVENT
DTSTART;TZID=America/New_York:20240907T100000
DTEND;TZID=America/New_York:20240907T130000
DTSTAMP:20260421T171723
CREATED:20240830T172500Z
LAST-MODIFIED:20240830T172525Z
UID:10002566-1725703200-1725714000@creativehubofapopka.com
SUMMARY:2024 Fall DIY Wood Workshop - SATURDAY SOLD OUT
DESCRIPTION:
URL:https://creativehubofapopka.com/event/2024-fall-diy-wood-workshop-saturday-sold-out/
LOCATION:Creative Hub of Apopka\, 124 E 2nd Street\, Apopka\, FL\, 32703\, United States
CATEGORIES:Artistic Workshop
ATTACH;FMTTYPE=image/jpeg:https://creativehubofapopka.com/wp-content/uploads/2024/08/Fall2024DIYWorkshop.jpg
ORGANIZER;CN="Jankun Creative Workshops":MAILTO:melanie@jankuncreative.com
END:VEVENT
BEGIN:VEVENT
DTSTART;TZID=America/New_York:20240903T100000
DTEND;TZID=America/New_York:20240903T113000
DTSTAMP:20260421T171723
CREATED:20240723T150413Z
LAST-MODIFIED:20240723T150413Z
UID:10002408-1725357600-1725363000@creativehubofapopka.com
SUMMARY:Homeschool Art Class Fall 2024
DESCRIPTION:
URL:https://creativehubofapopka.com/event/homeschool-art-class-fall-2024/2024-09-03/
LOCATION:Creative Hub of Apopka\, 124 E 2nd Street\, Apopka\, FL\, 32703\, United States
ATTACH;FMTTYPE=image/png:https://creativehubofapopka.com/wp-content/uploads/2024/07/HomeSchoolArtClass.png
ORGANIZER;CN="Jankun Creative Workshops":MAILTO:melanie@jankuncreative.com
END:VEVENT
BEGIN:VEVENT
DTSTART;TZID=America/New_York:20240901T080000
DTEND;TZID=America/New_York:20240901T170000
DTSTAMP:20260421T171723
CREATED:20240828T154437Z
LAST-MODIFIED:20240828T155059Z
UID:10002505-1725177600-1725210000@creativehubofapopka.com
SUMMARY:2024 Scarecrow Trail with First Methodist Church of Apopka & Creative Hub of Apopka
DESCRIPTION:
URL:https://creativehubofapopka.com/event/2024-scarecrow-trail-with-first-methodist-church-of-apopka-creative-hub-of-apopka/2024-09-01/
LOCATION:Creative Hub of Apopka\, 124 E 2nd Street\, Apopka\, FL\, 32703\, United States
CATEGORIES:Event
ATTACH;FMTTYPE=image/jpeg:https://creativehubofapopka.com/wp-content/uploads/2024/08/Scarecrow.jpg
ORGANIZER;CN="Jankun Creative Workshops":MAILTO:melanie@jankuncreative.com
END:VEVENT
BEGIN:VEVENT
DTSTART;TZID=America/New_York:20240811T110000
DTEND;TZID=America/New_York:20240811T150000
DTSTAMP:20260421T171723
CREATED:20240813T153447Z
LAST-MODIFIED:20240813T153447Z
UID:10002428-1723374000-1723388400@creativehubofapopka.com
SUMMARY:Private Event
DESCRIPTION:
URL:https://creativehubofapopka.com/event/private-event/
LOCATION:Creative Hub of Apopka\, 124 E 2nd Street\, Apopka\, FL\, 32703\, United States
CATEGORIES:Event
ORGANIZER;CN="Jankun Creative Workshops":MAILTO:melanie@jankuncreative.com
END:VEVENT
BEGIN:VEVENT
DTSTART;TZID=America/New_York:20240804T130000
DTEND;TZID=America/New_York:20240804T160000
DTSTAMP:20260421T171723
CREATED:20240723T145752Z
LAST-MODIFIED:20240723T150159Z
UID:10002407-1722776400-1722787200@creativehubofapopka.com
SUMMARY:Open Studio | Figure & Portrait Drawing | Live Model
DESCRIPTION:
URL:https://creativehubofapopka.com/event/open-studio-figure-portrait-drawing-live-model/
LOCATION:Creative Hub of Apopka\, 124 E 2nd Street\, Apopka\, FL\, 32703\, United States
ATTACH;FMTTYPE=image/png:https://creativehubofapopka.com/wp-content/uploads/2024/07/OpenStudio.png
ORGANIZER;CN="Jankun Creative Workshops":MAILTO:melanie@jankuncreative.com
END:VEVENT
BEGIN:VEVENT
DTSTART;TZID=America/New_York:20240803T110000
DTEND;TZID=America/New_York:20240803T130000
DTSTAMP:20260421T171723
CREATED:20240716T034314Z
LAST-MODIFIED:20240716T034314Z
UID:10002405-1722682800-1722690000@creativehubofapopka.com
SUMMARY:Design\, Paint\, and Pack FREE Book Bag and Art Event - EVENT FULL
DESCRIPTION:Event Hosted by Creative Hub of Apopka\, First Methodist Church of Apopka and Re-Imagine Communities!
URL:https://creativehubofapopka.com/event/design-paint-and-pack-free-book-bag-and-art-event-event-full/
LOCATION:Creative Hub of Apopka\, 124 E 2nd Street\, Apopka\, FL\, 32703\, United States
CATEGORIES:Event
ATTACH;FMTTYPE=image/png:https://creativehubofapopka.com/wp-content/uploads/2024/07/DesignPaintPack.png
ORGANIZER;CN="Jankun Creative Workshops":MAILTO:melanie@jankuncreative.com
END:VEVENT
BEGIN:VEVENT
DTSTART;TZID=America/New_York:20240802T090000
DTEND;TZID=America/New_York:20240802T120000
DTSTAMP:20260421T171723
CREATED:20240308T041602Z
LAST-MODIFIED:20240316T050005Z
UID:10002183-1722589200-1722600000@creativehubofapopka.com
SUMMARY:All things Clay\, Camp for Kids Ages 6-10
DESCRIPTION:
URL:https://creativehubofapopka.com/event/all-things-clay-camp-for-kids-ages-6-10/2024-08-02/
LOCATION:Creative Hub of Apopka\, 124 E 2nd Street\, Apopka\, FL\, 32703\, United States
CATEGORIES:Artistic Workshop
ATTACH;FMTTYPE=image/jpeg:https://creativehubofapopka.com/wp-content/uploads/2024/03/AllThingsClayCamp912.jpg
ORGANIZER;CN="Jankun Creative Workshops":MAILTO:melanie@jankuncreative.com
END:VEVENT
BEGIN:VEVENT
DTSTART;TZID=America/New_York:20240801T090000
DTEND;TZID=America/New_York:20240801T120000
DTSTAMP:20260421T171723
CREATED:20240308T041602Z
LAST-MODIFIED:20240316T050005Z
UID:10002182-1722502800-1722513600@creativehubofapopka.com
SUMMARY:All things Clay\, Camp for Kids Ages 6-10
DESCRIPTION:
URL:https://creativehubofapopka.com/event/all-things-clay-camp-for-kids-ages-6-10/2024-08-01/
LOCATION:Creative Hub of Apopka\, 124 E 2nd Street\, Apopka\, FL\, 32703\, United States
CATEGORIES:Artistic Workshop
ATTACH;FMTTYPE=image/jpeg:https://creativehubofapopka.com/wp-content/uploads/2024/03/AllThingsClayCamp912.jpg
ORGANIZER;CN="Jankun Creative Workshops":MAILTO:melanie@jankuncreative.com
END:VEVENT
BEGIN:VEVENT
DTSTART;TZID=America/New_York:20240731T090000
DTEND;TZID=America/New_York:20240731T120000
DTSTAMP:20260421T171723
CREATED:20240308T041602Z
LAST-MODIFIED:20240316T050005Z
UID:10002181-1722416400-1722427200@creativehubofapopka.com
SUMMARY:All things Clay\, Camp for Kids Ages 6-10
DESCRIPTION:
URL:https://creativehubofapopka.com/event/all-things-clay-camp-for-kids-ages-6-10/2024-07-31/
LOCATION:Creative Hub of Apopka\, 124 E 2nd Street\, Apopka\, FL\, 32703\, United States
CATEGORIES:Artistic Workshop
ATTACH;FMTTYPE=image/jpeg:https://creativehubofapopka.com/wp-content/uploads/2024/03/AllThingsClayCamp912.jpg
ORGANIZER;CN="Jankun Creative Workshops":MAILTO:melanie@jankuncreative.com
END:VEVENT
BEGIN:VEVENT
DTSTART;TZID=America/New_York:20240730T090000
DTEND;TZID=America/New_York:20240730T120000
DTSTAMP:20260421T171723
CREATED:20240308T041602Z
LAST-MODIFIED:20240316T050005Z
UID:10002180-1722330000-1722340800@creativehubofapopka.com
SUMMARY:All things Clay\, Camp for Kids Ages 6-10
DESCRIPTION:
URL:https://creativehubofapopka.com/event/all-things-clay-camp-for-kids-ages-6-10/2024-07-30/
LOCATION:Creative Hub of Apopka\, 124 E 2nd Street\, Apopka\, FL\, 32703\, United States
CATEGORIES:Artistic Workshop
ATTACH;FMTTYPE=image/jpeg:https://creativehubofapopka.com/wp-content/uploads/2024/03/AllThingsClayCamp912.jpg
ORGANIZER;CN="Jankun Creative Workshops":MAILTO:melanie@jankuncreative.com
END:VEVENT
BEGIN:VEVENT
DTSTART;TZID=America/New_York:20240729T090000
DTEND;TZID=America/New_York:20240729T120000
DTSTAMP:20260421T171723
CREATED:20240308T041602Z
LAST-MODIFIED:20240316T050005Z
UID:10002179-1722243600-1722254400@creativehubofapopka.com
SUMMARY:All things Clay\, Camp for Kids Ages 6-10
DESCRIPTION:
URL:https://creativehubofapopka.com/event/all-things-clay-camp-for-kids-ages-6-10/2024-07-29/
LOCATION:Creative Hub of Apopka\, 124 E 2nd Street\, Apopka\, FL\, 32703\, United States
CATEGORIES:Artistic Workshop
ATTACH;FMTTYPE=image/jpeg:https://creativehubofapopka.com/wp-content/uploads/2024/03/AllThingsClayCamp912.jpg
ORGANIZER;CN="Jankun Creative Workshops":MAILTO:melanie@jankuncreative.com
END:VEVENT
BEGIN:VEVENT
DTSTART;TZID=America/New_York:20240728T140000
DTEND;TZID=America/New_York:20240728T170000
DTSTAMP:20260421T171723
CREATED:20240723T143051Z
LAST-MODIFIED:20240723T143219Z
UID:10002406-1722175200-1722186000@creativehubofapopka.com
SUMMARY:Private Party
DESCRIPTION:
URL:https://creativehubofapopka.com/event/private-party-2/
LOCATION:Creative Hub of Apopka\, 124 E 2nd Street\, Apopka\, FL\, 32703\, United States
ATTACH;FMTTYPE=image/jpeg:https://creativehubofapopka.com/wp-content/uploads/2024/07/qtq80-iuSd3h.jpeg
ORGANIZER;CN="Jankun Creative Workshops":MAILTO:melanie@jankuncreative.com
END:VEVENT
BEGIN:VEVENT
DTSTART;TZID=America/New_York:20240720T170000
DTEND;TZID=America/New_York:20240720T193000
DTSTAMP:20260421T171723
CREATED:20240716T033139Z
LAST-MODIFIED:20240716T033617Z
UID:10002404-1721494800-1721503800@creativehubofapopka.com
SUMMARY:Cruel Summer Creative Kids Event - SOLD OUT
DESCRIPTION:
URL:https://creativehubofapopka.com/event/cruel-summer-creative-kids-event-sold-out/
LOCATION:Creative Hub of Apopka\, 124 E 2nd Street\, Apopka\, FL\, 32703\, United States
CATEGORIES:Artistic Workshop
ATTACH;FMTTYPE=image/png:https://creativehubofapopka.com/wp-content/uploads/2024/07/CruelSummer.png
ORGANIZER;CN="Jankun Creative Workshops":MAILTO:melanie@jankuncreative.com
END:VEVENT
BEGIN:VEVENT
DTSTART;TZID=America/New_York:20240712T090000
DTEND;TZID=America/New_York:20240712T120000
DTSTAMP:20260421T171723
CREATED:20240308T044121Z
LAST-MODIFIED:20240414T151615Z
UID:10002208-1720774800-1720785600@creativehubofapopka.com
SUMMARY:Creative Kids Table | Culinary Camp
DESCRIPTION:
URL:https://creativehubofapopka.com/event/culinary-camp/2024-07-12/
LOCATION:Creative Hub of Apopka\, 124 E 2nd Street\, Apopka\, FL\, 32703\, United States
ATTACH;FMTTYPE=image/png:https://creativehubofapopka.com/wp-content/uploads/2024/03/CreativeKidsCulinary.png
ORGANIZER;CN="Jankun Creative Workshops":MAILTO:melanie@jankuncreative.com
END:VEVENT
END:VCALENDAR